BEGIN:VCALENDAR
VERSION:2.0
PRODID:gruene-hiltrup.de
METHOD:PUBLISH
BEGIN:VTIMEZONE
TZID:Europe/Berlin
X-LIC-LOCATION:Europe/Berlin
BEGIN:DAYLIGHT
TZOFFSETFROM:+0100
TZOFFSETTO:+0200
TZNAME:CEST
DTSTART:19700329T020000
RRULE:FREQ=YEARLY;INTERVAL=1;BYDAY=-1SU;BYMONTH=3
END:DAYLIGHT
BEGIN:STANDARD
TZOFFSETFROM:+0200
TZOFFSETTO:+0100
TZNAME:CET
DTSTART:19701025T030000
RRULE:FREQ=YEARLY;INTERVAL=1;BYDAY=-1SU;BYMONTH=10
END:STANDARD
END:VTIMEZONE
BEGIN:VEVENT
UID:c2d01b664cd61aeb191425fff46afe9c@gruene-hiltrup.de
URL;VALUE=URI:https://gruene-hiltrup.de/termine/stammtisch-gruene-hiltrup
 /
LOCATION:nachBARschaft, Marktallee 39, Hiltrup
SUMMARY:Stammtisch Grüne Hiltrup
DESCRIPTION;ALTREP="data:text/html,%3Cspan%20style%3D%22color%3A%20%23339
 966%22%3E%3Cstrong%3E%0D%0AOb%20gro%C3%9Fe%20Politik%2C%20lokale%20Themen
 %20oder%20einfach%20das%2C%20was%20dich%20gerade%20besch%C3%A4ftigt%20%E2
 %80%93%20beim%20Gr%C3%BCnen%20Stammtisch%20ist%20Platz%20f%C3%BCr%20alles
 %2C%20was%20dir%20wichtig%20ist.%3C%2Fstrong%3E%3C%2Fspan%3E%0D%0A%0D%0AW
 ir%20treffen%20uns%20um%2019%20Uhr%20in%20der%20nachBARschaft%20auf%20der
 %20Marktallee%2039%20-%20wie%20immer%20offen%2C%20ungezwungen%20und%20mit
 %20Raum%20f%C3%BCr%20Gespr%C3%A4che.%0D%0A%0D%0AHerzlich%20eingeladen%20s
 ind%20alle%2C%20die%20an%20Austausch%20interessiert%20sind%2C%20egal%20ob
 %20Mitglied%20oder%20nicht.%0D%0A%0D%0AUnsere%20n%C3%A4chsten%20Stammtisc
 htermine%3B%0D%0A10.%20Juni%C2%A0%20%7C%208.%20Juli":Ob große Politik\, 
 lokale Themen oder einfach das\, was dich gerade beschäftigt – beim Gr
 ünen Stammtisch ist Platz für alles\, was dir wichtig ist.\n\nWir treff
 en uns um 19 Uhr in der nachBARschaft auf der Marktallee 39 - wie immer o
 ffen\, ungezwungen und mit Raum für Gespräche.\n\nHerzlich eingeladen s
 ind alle\, die an Austausch interessiert sind\, egal ob Mitglied oder nic
 ht.\n\nUnsere nächsten Stammtischtermine\;\n\n10. Juni  | 8. Juli
CLASS:PUBLIC
DTSTART;TZID=Europe/Berlin:20260513T190000
DTEND;TZID=Europe/Berlin:20260513T210000
DTSTAMP:20260419T123008
END:VEVENT
END:VCALENDAR